BEGIN:VCALENDAR
VERSION:2.0
PRODID:-//Soliton Laser- und Messtechnik GmbH - ECPv6.15.20//NONSGML v1.0//EN
CALSCALE:GREGORIAN
METHOD:PUBLISH
X-WR-CALNAME:Soliton Laser- und Messtechnik GmbH
X-ORIGINAL-URL:https://soliton-gmbh.de
X-WR-CALDESC:Veranstaltungen für Soliton Laser- und Messtechnik GmbH
REFRESH-INTERVAL;VALUE=DURATION:PT1H
X-Robots-Tag:noindex
X-PUBLISHED-TTL:PT1H
BEGIN:VTIMEZONE
TZID:Europe/Berlin
BEGIN:DAYLIGHT
TZOFFSETFROM:+0100
TZOFFSETTO:+0200
TZNAME:CEST
DTSTART:20230326T010000
END:DAYLIGHT
BEGIN:STANDARD
TZOFFSETFROM:+0200
TZOFFSETTO:+0100
TZNAME:CET
DTSTART:20231029T010000
END:STANDARD
BEGIN:DAYLIGHT
TZOFFSETFROM:+0100
TZOFFSETTO:+0200
TZNAME:CEST
DTSTART:20240331T010000
END:DAYLIGHT
BEGIN:STANDARD
TZOFFSETFROM:+0200
TZOFFSETTO:+0100
TZNAME:CET
DTSTART:20241027T010000
END:STANDARD
BEGIN:DAYLIGHT
TZOFFSETFROM:+0100
TZOFFSETTO:+0200
TZNAME:CEST
DTSTART:20250330T010000
END:DAYLIGHT
BEGIN:STANDARD
TZOFFSETFROM:+0200
TZOFFSETTO:+0100
TZNAME:CET
DTSTART:20251026T010000
END:STANDARD
END:VTIMEZONE
BEGIN:VEVENT
DTSTART;VALUE=DATE:20241119
DTEND;VALUE=DATE:20241122
DTSTAMP:20260421T161729
CREATED:20240401T110309Z
LAST-MODIFIED:20241022T111709Z
UID:7397-1731974400-1732233599@soliton-gmbh.de
SUMMARY:Space Tech Expo Europe
DESCRIPTION:Europas größtes B2B Event der Raumfahrtindustrie \nStand ZZ20\n19. – 21.11.2024\, Bremen\nWeitere Informationen
URL:https://soliton-gmbh.de/messe/space-tech-expo-europe/
ATTACH;FMTTYPE=image/png:https://soliton-gmbh.de/wp-content/uploads/2024/03/Screenshot-2024-03-29-145812.png
END:VEVENT
END:VCALENDAR