BEGIN:VCALENDAR
VERSION:2.0
PRODID:-//Soliton Laser- und Messtechnik GmbH - ECPv6.15.20//NONSGML v1.0//EN
CALSCALE:GREGORIAN
METHOD:PUBLISH
X-WR-CALNAME:Soliton Laser- und Messtechnik GmbH
X-ORIGINAL-URL:https://soliton-gmbh.de
X-WR-CALDESC:Veranstaltungen für Soliton Laser- und Messtechnik GmbH
REFRESH-INTERVAL;VALUE=DURATION:PT1H
X-Robots-Tag:noindex
X-PUBLISHED-TTL:PT1H
BEGIN:VTIMEZONE
TZID:Europe/Berlin
BEGIN:DAYLIGHT
TZOFFSETFROM:+0100
TZOFFSETTO:+0200
TZNAME:CEST
DTSTART:20230326T010000
END:DAYLIGHT
BEGIN:STANDARD
TZOFFSETFROM:+0200
TZOFFSETTO:+0100
TZNAME:CET
DTSTART:20231029T010000
END:STANDARD
BEGIN:DAYLIGHT
TZOFFSETFROM:+0100
TZOFFSETTO:+0200
TZNAME:CEST
DTSTART:20240331T010000
END:DAYLIGHT
BEGIN:STANDARD
TZOFFSETFROM:+0200
TZOFFSETTO:+0100
TZNAME:CET
DTSTART:20241027T010000
END:STANDARD
BEGIN:DAYLIGHT
TZOFFSETFROM:+0100
TZOFFSETTO:+0200
TZNAME:CEST
DTSTART:20250330T010000
END:DAYLIGHT
BEGIN:STANDARD
TZOFFSETFROM:+0200
TZOFFSETTO:+0100
TZNAME:CET
DTSTART:20251026T010000
END:STANDARD
END:VTIMEZONE
BEGIN:VEVENT
DTSTART;VALUE=DATE:20240610
DTEND;VALUE=DATE:20240615
DTSTAMP:20260422T005215
CREATED:20240401T112515Z
LAST-MODIFIED:20241022T111805Z
UID:7413-1717977600-1718409599@soliton-gmbh.de
SUMMARY:Achema
DESCRIPTION:Weltforum und internationale Leitmesse der Prozessindustrie \nHalle 12.0\, Stand F98\n10. – 14.06.2024\, Frankfurt am Main \nWeitere Informationen
URL:https://soliton-gmbh.de/messe/achema/
ATTACH;FMTTYPE=image/png:https://soliton-gmbh.de/wp-content/uploads/2023/03/ControlUnbenannt-art-scale-2_00x-2022.png
END:VEVENT
END:VCALENDAR