BEGIN:VCALENDAR
VERSION:2.0
PRODID:-//Soliton Laser- und Messtechnik GmbH - ECPv6.15.20//NONSGML v1.0//EN
CALSCALE:GREGORIAN
METHOD:PUBLISH
X-ORIGINAL-URL:https://soliton-gmbh.de
X-WR-CALDESC:Veranstaltungen für Soliton Laser- und Messtechnik GmbH
REFRESH-INTERVAL;VALUE=DURATION:PT1H
X-Robots-Tag:noindex
X-PUBLISHED-TTL:PT1H
BEGIN:VTIMEZONE
TZID:Europe/Berlin
BEGIN:DAYLIGHT
TZOFFSETFROM:+0100
TZOFFSETTO:+0200
TZNAME:CEST
DTSTART:20230326T010000
END:DAYLIGHT
BEGIN:STANDARD
TZOFFSETFROM:+0200
TZOFFSETTO:+0100
TZNAME:CET
DTSTART:20231029T010000
END:STANDARD
BEGIN:DAYLIGHT
TZOFFSETFROM:+0100
TZOFFSETTO:+0200
TZNAME:CEST
DTSTART:20240331T010000
END:DAYLIGHT
BEGIN:STANDARD
TZOFFSETFROM:+0200
TZOFFSETTO:+0100
TZNAME:CET
DTSTART:20241027T010000
END:STANDARD
BEGIN:DAYLIGHT
TZOFFSETFROM:+0100
TZOFFSETTO:+0200
TZNAME:CEST
DTSTART:20250330T010000
END:DAYLIGHT
BEGIN:STANDARD
TZOFFSETFROM:+0200
TZOFFSETTO:+0100
TZNAME:CET
DTSTART:20251026T010000
END:STANDARD
END:VTIMEZONE
BEGIN:VEVENT
DTSTART;VALUE=DATE:20240423
DTEND;VALUE=DATE:20240427
DTSTAMP:20260422T035528
CREATED:20240401T112036Z
LAST-MODIFIED:20240401T114710Z
UID:7409-1713830400-1714175999@soliton-gmbh.de
SUMMARY:Control
DESCRIPTION:Internationale Fachmesse für Qualitätssicherung \nHalle 10\, Stand 1625\n23. – 26.04.2024\, Stuttgart \nWeitere Informationen
URL:https://soliton-gmbh.de/messe/control/
ATTACH;FMTTYPE=image/png:https://soliton-gmbh.de/wp-content/uploads/2023/12/Optatec-1.png
END:VEVENT
END:VCALENDAR